BEGIN:VCALENDAR
VERSION:2.0
PRODID:-//Paws and Prayers - ECPv6.15.20//NONSGML v1.0//EN
CALSCALE:GREGORIAN
METHOD:PUBLISH
X-WR-CALNAME:Paws and Prayers
X-ORIGINAL-URL:https://pawsandprayers.org
X-WR-CALDESC:Events for Paws and Prayers
REFRESH-INTERVAL;VALUE=DURATION:PT1H
X-Robots-Tag:noindex
X-PUBLISHED-TTL:PT1H
BEGIN:VTIMEZONE
TZID:America/New_York
BEGIN:DAYLIGHT
TZOFFSETFROM:-0500
TZOFFSETTO:-0400
TZNAME:EDT
DTSTART:20250309T070000
END:DAYLIGHT
BEGIN:STANDARD
TZOFFSETFROM:-0400
TZOFFSETTO:-0500
TZNAME:EST
DTSTART:20251102T060000
END:STANDARD
BEGIN:DAYLIGHT
TZOFFSETFROM:-0500
TZOFFSETTO:-0400
TZNAME:EDT
DTSTART:20260308T070000
END:DAYLIGHT
BEGIN:STANDARD
TZOFFSETFROM:-0400
TZOFFSETTO:-0500
TZNAME:EST
DTSTART:20261101T060000
END:STANDARD
BEGIN:DAYLIGHT
TZOFFSETFROM:-0500
TZOFFSETTO:-0400
TZNAME:EDT
DTSTART:20270314T070000
END:DAYLIGHT
BEGIN:STANDARD
TZOFFSETFROM:-0400
TZOFFSETTO:-0500
TZNAME:EST
DTSTART:20271107T060000
END:STANDARD
END:VTIMEZONE
BEGIN:VEVENT
DTSTART;VALUE=DATE:20260421
DTEND;VALUE=DATE:20260422
DTSTAMP:20260421T060617
CREATED:20251103T105648Z
LAST-MODIFIED:20260218T143102Z
UID:70309-1776729600-1776815999@pawsandprayers.org
SUMMARY:Our 25 Year Anniversary
DESCRIPTION:This year we celebrate 25 years of rescuing and re-homing pets.\nTHANK YOU to all our supporters\, donors\, volunteers\, fosters and staff for helping make our mission possible.\nFounded in 2001\, Paws and Prayers blossomed from the notion that all cast-off animals deserve only the best lives as loved\, indoor pets. With a higher power’s guiding hand and unending prayers\, the rescuers that formed Paws and Prayers sought to rescue\, rehabilitate and re-home forgotten\, neglected\, or otherwise left-behind pets.
URL:https://pawsandprayers.org/event/celebrating-25-years/
LOCATION:OH
ATTACH;FMTTYPE=image/png:https://pawsandprayers.org/wp-content/uploads/2025/11/Wed_PnP_Est-2001.png
END:VEVENT
END:VCALENDAR