BEGIN:VCALENDAR
VERSION:2.0
PRODID:-//Paws and Prayers - ECPv6.15.20//NONSGML v1.0//EN
CALSCALE:GREGORIAN
METHOD:PUBLISH
X-ORIGINAL-URL:https://pawsandprayers.org
X-WR-CALDESC:Events for Paws and Prayers
REFRESH-INTERVAL;VALUE=DURATION:PT1H
X-Robots-Tag:noindex
X-PUBLISHED-TTL:PT1H
BEGIN:VTIMEZONE
TZID:America/New_York
BEGIN:DAYLIGHT
TZOFFSETFROM:-0500
TZOFFSETTO:-0400
TZNAME:EDT
DTSTART:20220313T070000
END:DAYLIGHT
BEGIN:STANDARD
TZOFFSETFROM:-0400
TZOFFSETTO:-0500
TZNAME:EST
DTSTART:20221106T060000
END:STANDARD
BEGIN:DAYLIGHT
TZOFFSETFROM:-0500
TZOFFSETTO:-0400
TZNAME:EDT
DTSTART:20230312T070000
END:DAYLIGHT
BEGIN:STANDARD
TZOFFSETFROM:-0400
TZOFFSETTO:-0500
TZNAME:EST
DTSTART:20231105T060000
END:STANDARD
BEGIN:DAYLIGHT
TZOFFSETFROM:-0500
TZOFFSETTO:-0400
TZNAME:EDT
DTSTART:20240310T070000
END:DAYLIGHT
BEGIN:STANDARD
TZOFFSETFROM:-0400
TZOFFSETTO:-0500
TZNAME:EST
DTSTART:20241103T060000
END:STANDARD
END:VTIMEZONE
BEGIN:VEVENT
DTSTART;TZID=America/New_York:20230311T110000
DTEND;TZID=America/New_York:20230311T140000
DTSTAMP:20260422T142847
CREATED:20230212T182308Z
LAST-MODIFIED:20230212T182308Z
UID:55443-1678532400-1678543200@pawsandprayers.org
SUMMARY:National Adoption Week Adoption Event
DESCRIPTION:Join us at the Montrose PetSmart to celebrate National Adoption Week!  Paws and Prayers will be on-site from 11:00am-2:00pm on Saturday\, March 11\, 2023.  PetSmart is located at 3750 W. Market St.\, Akron\, Ohio 44333. \nIf there is a specific pet you are interested in meeting\, please contact the foster prior to the event to confirm attendance.  Applications are available on our website at https://pawsandprayers.org/adoption-application/ \n#adoptlove
URL:https://pawsandprayers.org/event/national-adoption-week-adoption-event/
LOCATION:Montrose PetSmart\, 3750 W Market St\, Fairlawn\, OH\, 44333\, United States
CATEGORIES:Adoption Event
END:VEVENT
END:VCALENDAR