BEGIN:VCALENDAR
VERSION:2.0
PRODID:-//Paws and Prayers - ECPv6.15.20//NONSGML v1.0//EN
CALSCALE:GREGORIAN
METHOD:PUBLISH
X-ORIGINAL-URL:https://pawsandprayers.org
X-WR-CALDESC:Events for Paws and Prayers
REFRESH-INTERVAL;VALUE=DURATION:PT1H
X-Robots-Tag:noindex
X-PUBLISHED-TTL:PT1H
BEGIN:VTIMEZONE
TZID:America/New_York
BEGIN:DAYLIGHT
TZOFFSETFROM:-0500
TZOFFSETTO:-0400
TZNAME:EDT
DTSTART:20220313T070000
END:DAYLIGHT
BEGIN:STANDARD
TZOFFSETFROM:-0400
TZOFFSETTO:-0500
TZNAME:EST
DTSTART:20221106T060000
END:STANDARD
BEGIN:DAYLIGHT
TZOFFSETFROM:-0500
TZOFFSETTO:-0400
TZNAME:EDT
DTSTART:20230312T070000
END:DAYLIGHT
BEGIN:STANDARD
TZOFFSETFROM:-0400
TZOFFSETTO:-0500
TZNAME:EST
DTSTART:20231105T060000
END:STANDARD
BEGIN:DAYLIGHT
TZOFFSETFROM:-0500
TZOFFSETTO:-0400
TZNAME:EDT
DTSTART:20240310T070000
END:DAYLIGHT
BEGIN:STANDARD
TZOFFSETFROM:-0400
TZOFFSETTO:-0500
TZNAME:EST
DTSTART:20241103T060000
END:STANDARD
END:VTIMEZONE
BEGIN:VEVENT
DTSTART;TZID=America/New_York:20230401T120000
DTEND;TZID=America/New_York:20230401T140000
DTSTAMP:20260422T130142
CREATED:20230326T215102Z
LAST-MODIFIED:20230326T215102Z
UID:55868-1680350400-1680357600@pawsandprayers.org
SUMMARY:Purdy Paws 2 One Year Anniversary Celebration
DESCRIPTION:Come celebrate the one year anniversary of Jessica’s Purdy Paws 2!  Paws and Prayers will be on-site from 12pm-2pm with adoptable dogs.  We will also be selling crate pads.  Purdy Paws is located at 3421 Manchester Road\, Akron\, Ohio.
URL:https://pawsandprayers.org/event/purdy-paws-2-one-year-anniversary-celebration/
LOCATION:Jessica’s Purdy Paws 2\, 3421 Manchester Road\, Akron\, OH\, 44319\, United States
CATEGORIES:Adoption Event,Festival
END:VEVENT
BEGIN:VEVENT
DTSTART;TZID=America/New_York:20230415T110000
DTEND;TZID=America/New_York:20230415T130000
DTSTAMP:20260422T130142
CREATED:20230326T215945Z
LAST-MODIFIED:20230326T215945Z
UID:55874-1681556400-1681563600@pawsandprayers.org
SUMMARY:Adoption Event @ PetSmart Montrose
DESCRIPTION:Stop by and visit some of our adoptable pets! We will be at PetSmart Montrose from 11am-1pm.  If there is a specific pet you would like to meet\, please contact the foster to confirm their attendance. \n*Approved applications are required for adoption.  Please complete an application on our website.
URL:https://pawsandprayers.org/event/adoption-event-petsmart-montrose-2/
LOCATION:Montrose PetSmart\, 3750 W Market St\, Fairlawn\, OH\, 44333\, United States
CATEGORIES:Adoption Event
END:VEVENT
BEGIN:VEVENT
DTSTART;TZID=America/New_York:20230422T110000
DTEND;TZID=America/New_York:20230422T130000
DTSTAMP:20260422T130142
CREATED:20230326T215639Z
LAST-MODIFIED:20230326T215657Z
UID:55871-1682161200-1682168400@pawsandprayers.org
SUMMARY:Adoption Event @ Pet Supplies Plus Coventry
DESCRIPTION:Stop by and visit some of our adoptable pets! We will be at Pet Supplies Plus in Coventry from 11am-1pm.  If there is a specific pet you would like to meet\, please contact the foster to confirm their attendance. \n*Approved applications are required for adoption.  Please complete an application on our website.
URL:https://pawsandprayers.org/event/adoption-event/
LOCATION:Coventry Pet Supplies Plus\, 3100 Manchester Road\, Akron\, OH\, 44319\, United States
CATEGORIES:Adoption Event
END:VEVENT
END:VCALENDAR