BEGIN:VCALENDAR
VERSION:2.0
PRODID:-//Paws and Prayers - ECPv6.15.20//NONSGML v1.0//EN
CALSCALE:GREGORIAN
METHOD:PUBLISH
X-ORIGINAL-URL:https://pawsandprayers.org
X-WR-CALDESC:Events for Paws and Prayers
REFRESH-INTERVAL;VALUE=DURATION:PT1H
X-Robots-Tag:noindex
X-PUBLISHED-TTL:PT1H
BEGIN:VTIMEZONE
TZID:America/New_York
BEGIN:DAYLIGHT
TZOFFSETFROM:-0500
TZOFFSETTO:-0400
TZNAME:EDT
DTSTART:20230312T070000
END:DAYLIGHT
BEGIN:STANDARD
TZOFFSETFROM:-0400
TZOFFSETTO:-0500
TZNAME:EST
DTSTART:20231105T060000
END:STANDARD
BEGIN:DAYLIGHT
TZOFFSETFROM:-0500
TZOFFSETTO:-0400
TZNAME:EDT
DTSTART:20240310T070000
END:DAYLIGHT
BEGIN:STANDARD
TZOFFSETFROM:-0400
TZOFFSETTO:-0500
TZNAME:EST
DTSTART:20241103T060000
END:STANDARD
BEGIN:DAYLIGHT
TZOFFSETFROM:-0500
TZOFFSETTO:-0400
TZNAME:EDT
DTSTART:20250309T070000
END:DAYLIGHT
BEGIN:STANDARD
TZOFFSETFROM:-0400
TZOFFSETTO:-0500
TZNAME:EST
DTSTART:20251102T060000
END:STANDARD
END:VTIMEZONE
BEGIN:VEVENT
DTSTART;TZID=America/New_York:20240810T100000
DTEND;TZID=America/New_York:20240810T120000
DTSTAMP:20260421T143637
CREATED:20240403T221607Z
LAST-MODIFIED:20240417T230101Z
UID:61887-1723284000-1723291200@pawsandprayers.org
SUMMARY:Adoption Event @ Chapel Hill Tractor Supply
DESCRIPTION:Stop by and visit some of our adoptable pets! We will be at Chapel Hill Tractor Supply from 1oam-12pm.  If there is a specific pet you would like to meet\, please contact the foster to confirm their attendance. \n*Approved applications are required for adoption.  Please complete an application on our website.
URL:https://pawsandprayers.org/event/adoption-event-chapel-hill-tractor-supply-august2024/
LOCATION:Chapel Hill Tractor Supply\, 2003 Buchholzer Blvd.\, Akron\, OH\, 44310\, United States
CATEGORIES:Adoption Event
END:VEVENT
BEGIN:VEVENT
DTSTART;TZID=America/New_York:20240817T110000
DTEND;TZID=America/New_York:20240817T130000
DTSTAMP:20260421T143637
CREATED:20240403T222145Z
LAST-MODIFIED:20240403T222225Z
UID:61895-1723892400-1723899600@pawsandprayers.org
SUMMARY:Adoption Event @ Montrose PetSmart
DESCRIPTION:Stop by and visit some of our adoptable pets! We will be at PetSmart Montrose from 11am-1pm.  If there is a specific pet you would like to meet\, please contact the foster to confirm their attendance. \n*Approved applications are required for adoption.  Please complete an application on our website.
URL:https://pawsandprayers.org/event/adoption-event-montrose-petsmart-august2024/
LOCATION:Montrose PetSmart\, 3750 W Market St\, Fairlawn\, OH\, 44333\, United States
CATEGORIES:Adoption Event
END:VEVENT
BEGIN:VEVENT
DTSTART;TZID=America/New_York:20240824T100000
DTEND;TZID=America/New_York:20240824T120000
DTSTAMP:20260421T143637
CREATED:20240818T153747Z
LAST-MODIFIED:20240818T172031Z
UID:63804-1724493600-1724500800@pawsandprayers.org
SUMMARY:Tractor Supply Co. Adoption Event @ Lakemore Plaza
DESCRIPTION:This is our inaugural get-together\, and a massive shout out to Tractor Supply Co. for the fantastic invitation! \nSwing by and be part of the fun – plus\, we’ve got fluffy pals on the lookout for their forever families. \nQuick heads-up\, Paws and Prayers requires pre-approval and in adherence to our standards for all potential pet adopters; we do not facilitate on-the-spot adoptions.
URL:https://pawsandprayers.org/event/tractor-supply-co-lakemore-plaza/
LOCATION:Tractor Supply Lakemore\, 1500 Canton Rd\, Suite 370\, Akron\, OH\, 44312\, United States
CATEGORIES:Adoption Event
ATTACH;FMTTYPE=image/png:https://pawsandprayers.org/wp-content/uploads/2024/08/tsc.png
END:VEVENT
END:VCALENDAR