BEGIN:VCALENDAR
VERSION:2.0
PRODID:-//Paws and Prayers - ECPv6.15.20//NONSGML v1.0//EN
CALSCALE:GREGORIAN
METHOD:PUBLISH
X-WR-CALNAME:Paws and Prayers
X-ORIGINAL-URL:https://pawsandprayers.org
X-WR-CALDESC:Events for Paws and Prayers
REFRESH-INTERVAL;VALUE=DURATION:PT1H
X-Robots-Tag:noindex
X-PUBLISHED-TTL:PT1H
BEGIN:VTIMEZONE
TZID:America/New_York
BEGIN:DAYLIGHT
TZOFFSETFROM:-0500
TZOFFSETTO:-0400
TZNAME:EDT
DTSTART:20240310T070000
END:DAYLIGHT
BEGIN:STANDARD
TZOFFSETFROM:-0400
TZOFFSETTO:-0500
TZNAME:EST
DTSTART:20241103T060000
END:STANDARD
BEGIN:DAYLIGHT
TZOFFSETFROM:-0500
TZOFFSETTO:-0400
TZNAME:EDT
DTSTART:20250309T070000
END:DAYLIGHT
BEGIN:STANDARD
TZOFFSETFROM:-0400
TZOFFSETTO:-0500
TZNAME:EST
DTSTART:20251102T060000
END:STANDARD
BEGIN:DAYLIGHT
TZOFFSETFROM:-0500
TZOFFSETTO:-0400
TZNAME:EDT
DTSTART:20260308T070000
END:DAYLIGHT
BEGIN:STANDARD
TZOFFSETFROM:-0400
TZOFFSETTO:-0500
TZNAME:EST
DTSTART:20261101T060000
END:STANDARD
END:VTIMEZONE
BEGIN:VEVENT
DTSTART;TZID=America/New_York:20250215T110000
DTEND;TZID=America/New_York:20250215T130000
DTSTAMP:20260421T055719
CREATED:20241211T110011Z
LAST-MODIFIED:20250215T135525Z
UID:65821-1739617200-1739624400@pawsandprayers.org
SUMMARY:CANCELED DUE TO WEATHER!!  Adoption Event @ Montrose PetSmart
DESCRIPTION:CANCELED DUE TO WEATHER \nStop by and meet your future furry best friend! We’ll be hanging out at Montrose PetSmart from 11am to 1pm. If you’ve got your heart set on a specific pet\, give their foster a shout to make sure they’re on the guest list! \nPaws and Prayers requires pre-approval and adheres to our standards for all prospective pet adopters; on-the-spot adoptions are not facilitated.
URL:https://pawsandprayers.org/event/adoption-event-montrose-petsmart-29/
LOCATION:Montrose PetSmart\, 3750 W Market St\, Fairlawn\, OH\, 44333\, United States
CATEGORIES:Adoption Event
ATTACH;FMTTYPE=image/png:https://pawsandprayers.org/wp-content/uploads/2024/12/web-feature-image-PnPsPS-small.png
END:VEVENT
BEGIN:VEVENT
DTSTART;TZID=America/New_York:20250222T110000
DTEND;TZID=America/New_York:20250222T130000
DTSTAMP:20260421T055719
CREATED:20250215T143946Z
LAST-MODIFIED:20250215T143946Z
UID:66711-1740222000-1740229200@pawsandprayers.org
SUMMARY:Adoption Event @ Montrose PetSmart
DESCRIPTION:Stop by and meet your future furry best friend! We’ll be hanging out at Montrose PetSmart from 11am to 1pm. If you’ve got your heart set on a specific pet\, give their foster a shout to make sure they’re on the guest list! \nPaws and Prayers requires pre-approval and adheres to our standards for all prospective pet adopters; on-the-spot adoptions are not facilitated.
URL:https://pawsandprayers.org/event/adoption-event-montrose-petsmart-35/
LOCATION:Montrose PetSmart\, 3750 W Market St\, Fairlawn\, OH\, 44333\, United States
CATEGORIES:Adoption Event
ATTACH;FMTTYPE=image/png:https://pawsandprayers.org/wp-content/uploads/2024/12/web-feature-image-PnPsPS-small.png
END:VEVENT
END:VCALENDAR