BEGIN:VCALENDAR
VERSION:2.0
PRODID:-//Paws and Prayers - ECPv6.15.20//NONSGML v1.0//EN
CALSCALE:GREGORIAN
METHOD:PUBLISH
X-WR-CALNAME:Paws and Prayers
X-ORIGINAL-URL:https://pawsandprayers.org
X-WR-CALDESC:Events for Paws and Prayers
REFRESH-INTERVAL;VALUE=DURATION:PT1H
X-Robots-Tag:noindex
X-PUBLISHED-TTL:PT1H
BEGIN:VTIMEZONE
TZID:America/New_York
BEGIN:DAYLIGHT
TZOFFSETFROM:-0500
TZOFFSETTO:-0400
TZNAME:EDT
DTSTART:20240310T070000
END:DAYLIGHT
BEGIN:STANDARD
TZOFFSETFROM:-0400
TZOFFSETTO:-0500
TZNAME:EST
DTSTART:20241103T060000
END:STANDARD
BEGIN:DAYLIGHT
TZOFFSETFROM:-0500
TZOFFSETTO:-0400
TZNAME:EDT
DTSTART:20250309T070000
END:DAYLIGHT
BEGIN:STANDARD
TZOFFSETFROM:-0400
TZOFFSETTO:-0500
TZNAME:EST
DTSTART:20251102T060000
END:STANDARD
BEGIN:DAYLIGHT
TZOFFSETFROM:-0500
TZOFFSETTO:-0400
TZNAME:EDT
DTSTART:20260308T070000
END:DAYLIGHT
BEGIN:STANDARD
TZOFFSETFROM:-0400
TZOFFSETTO:-0500
TZNAME:EST
DTSTART:20261101T060000
END:STANDARD
END:VTIMEZONE
BEGIN:VEVENT
DTSTART;TZID=America/New_York:20250801T000000
DTEND;TZID=America/New_York:20250815T235500
DTSTAMP:20260422T142650
CREATED:20250709T103935Z
LAST-MODIFIED:20250731T184617Z
UID:68559-1754006400-1755302100@pawsandprayers.org
SUMMARY:2026 Paws and Prayers Alumni Pet Calendar Model Contest!
DESCRIPTION:Submit a photo of your Paws and Prayers alum to be eligible to be featured in our 2026 calendar. Photos must be submitted by Friday\, August 15\, 2025 @ 11:55 pm \nhttps://forms.gle/oaeF69dtnjnSddUGA \nCalendar pre-ordering will open in September for November delivery.\nPre-order sales only\, we will not be ordering extras. \n*subject to change
URL:https://pawsandprayers.org/event/start-of-2026-paws-and-prayers-alumni-pet-calendar-model-contest/
LOCATION:OH
CATEGORIES:Fundraiser
ATTACH;FMTTYPE=image/png:https://pawsandprayers.org/wp-content/uploads/2025/07/For-Website-CALEDAR-2026-CAL-MODELS-NEEDED-447-x-200png.png
END:VEVENT
BEGIN:VEVENT
DTSTART;TZID=America/New_York:20250802T110000
DTEND;TZID=America/New_York:20250802T130000
DTSTAMP:20260422T142650
CREATED:20250721T115041Z
LAST-MODIFIED:20250721T115112Z
UID:68756-1754132400-1754139600@pawsandprayers.org
SUMMARY:Fundraiser @ Scott Farm Market and Greenhouse
DESCRIPTION:Swing by on August 2 from 11 am – 1 pm to Scott Farm Market and Greenhouse\, 1977 Meloy Road\, Kent OH 44240!\nWe’ll be selling our fabulous pet beds\, pads\, and more.\nSadly\, our furry friends won’t be making an appearance\, but we’ve got plenty of goodies for you to spoil them at home!
URL:https://pawsandprayers.org/event/fundraiser-scott-farm-market-and-greenhouse/
LOCATION:Scott Farm Market and Greenhouse\, 1977 Meloy Rd.\, Kent\, OH\, 44240\, United States
CATEGORIES:Fundraiser
ATTACH;FMTTYPE=image/png:https://pawsandprayers.org/wp-content/uploads/2025/07/Scott-Farmer-Mkt-Web-calendar-image-1.png
END:VEVENT
BEGIN:VEVENT
DTSTART;TZID=America/New_York:20250809T100000
DTEND;TZID=America/New_York:20250809T120000
DTSTAMP:20260422T142650
CREATED:20240918T221858Z
LAST-MODIFIED:20250709T115218Z
UID:64188-1754733600-1754740800@pawsandprayers.org
SUMMARY:Adoption Event @ Chapel Hill Tractor Supply
DESCRIPTION:Roll on over and meet our cuddly crew of adoptable furballs! \nWe’ll be hanging out at Chapel Hill Tractor Supply from 10:00 AM to 12:00 PM\, and trust us\, you don’t want to miss this paw-some event! \nIf you’ve got your heart set on a specific pet\, give their foster a shout to make sure they’re in attendance. \nJust a heads up: Paws and Prayers plays by the rules\, so you’ll need pre-approval to adopt – no impulse pet-snatching allowed! Come on down for some tail-wagging fun!
URL:https://pawsandprayers.org/event/adoption-event-chapel-hill-tractor-supply-11/
LOCATION:Chapel Hill Tractor Supply\, 2003 Buchholzer Blvd.\, Akron\, OH\, 44310\, United States
CATEGORIES:Adoption Event
ATTACH;FMTTYPE=image/png:https://pawsandprayers.org/wp-content/uploads/2024/09/Feature-Pix-PnPsTSC.png
END:VEVENT
BEGIN:VEVENT
DTSTART;TZID=America/New_York:20250809T110000
DTEND;TZID=America/New_York:20250809T130000
DTSTAMP:20260422T142650
CREATED:20250729T155826Z
LAST-MODIFIED:20250729T182147Z
UID:68878-1754737200-1754744400@pawsandprayers.org
SUMMARY:Adoption Event @ Coventry Pet Supplies Plus
DESCRIPTION:Get ready to meet some of the cutest furballs looking for their forever homes! \nSwing by Coventry Pet Supplies Plus from 11:00 AM to 1:00 PM for a tail-wagging good time! \nIf you’ve got your heart set on a specific pet\, give the foster a shout to make sure they’re on the guest list. \nJust a heads-up: Paws and Prayers likes to keep it classy\, so we need pre-approval for all potential pet parents—no impromptu adoptions here! Come join the paw-ty!
URL:https://pawsandprayers.org/event/adoption-event-coventry-pet-supplies-plus/
LOCATION:Coventry Pet Supplies Plus\, 3100 Manchester Road\, Akron\, OH\, 44319\, United States
CATEGORIES:Adoption Event
ATTACH;FMTTYPE=image/png:https://pawsandprayers.org/wp-content/uploads/2025/07/PSP-for-website-calendar.png
END:VEVENT
BEGIN:VEVENT
DTSTART;TZID=America/New_York:20250816T110000
DTEND;TZID=America/New_York:20250816T130000
DTSTAMP:20260422T142650
CREATED:20250522T154030Z
LAST-MODIFIED:20250522T154154Z
UID:67862-1755342000-1755349200@pawsandprayers.org
SUMMARY:Adoption Event @ Montrose PetSmart
DESCRIPTION:Join us to meet our charming adoptable pets! We will be at Montrose PetSmart from 11 AM to 1 PM\, we hope to see you there! If there’s a specific pet you are eager to meet\, please contact the foster to confirm their attendance at the event. \n*Please note that an approved application is required to adopt one of these lovable companions. Complete an application on our website and let your journey into pet parenthood commence! \n 
URL:https://pawsandprayers.org/event/adoption-event-montrose-petsmart-36/
LOCATION:Montrose PetSmart\, 3750 W Market St\, Fairlawn\, OH\, 44333\, United States
CATEGORIES:Adoption Event
ATTACH;FMTTYPE=image/png:https://pawsandprayers.org/wp-content/uploads/2024/12/web-feature-image-PnPsPS-small.png
END:VEVENT
BEGIN:VEVENT
DTSTART;TZID=America/New_York:20250820T183500
DTEND;TZID=America/New_York:20250820T213000
DTSTAMP:20260422T142650
CREATED:20250528T133713Z
LAST-MODIFIED:20250528T133713Z
UID:67945-1755714900-1755725400@pawsandprayers.org
SUMMARY:PLINKO @ Akron Rubber Ducks Game
DESCRIPTION:Paws and Prayers Pet Rescue is setting up shop on the concourse\, inviting fans to try their luck with a “drop” down the PLINKO board for a chance to snag fabulous prizes. It’s a win-win: score a prize for yourself and a slice of the proceeds goes to support our furry friends at Paws and Prayers! \n(end game time is estimated) \nBuy game tickets online.
URL:https://pawsandprayers.org/event/plinko-akron-rubber-ducks-game/
LOCATION:Canal Park\, 300 South Main St\, Akron\, OH\, 44308
CATEGORIES:Fundraiser
ATTACH;FMTTYPE=image/png:https://pawsandprayers.org/wp-content/uploads/2025/05/tAkron-RubberDucks-Logo-1.png
END:VEVENT
BEGIN:VEVENT
DTSTART;TZID=America/New_York:20250823T100000
DTEND;TZID=America/New_York:20250823T140000
DTSTAMP:20260422T142650
CREATED:20250807T212415Z
LAST-MODIFIED:20250807T212500Z
UID:69049-1755943200-1755957600@pawsandprayers.org
SUMMARY:Dog Days of Summer @ Medina County Dog Shelter
DESCRIPTION:Join the paw-some party at Dog Days of Summer\, brought to you by the Medina County Dog Shelter!\nMeet adoptable fur-buddies from local rescues\, enjoy face painting for the kiddos\, and have a tail-wagging good time!\nJust a little heads-up: Paws and Prayers Pet Rescue doesn’t do “on-the-spot” adoptions.\nBe sure to have your adoption application pre-approved and set an appointment.\nFur-tastic fun awaits!
URL:https://pawsandprayers.org/event/dog-days-of-summer-medina-county-dog-shelter/
LOCATION:Medina County Dog Shelter\, 6334 Deerview Lane\, Medina\, OH\, 44256
CATEGORIES:Festival
ATTACH;FMTTYPE=image/png:https://pawsandprayers.org/wp-content/uploads/2025/08/Medina-Dog-Days_web.png
END:VEVENT
BEGIN:VEVENT
DTSTART;TZID=America/New_York:20250824T130000
DTEND;TZID=America/New_York:20250824T160000
DTSTAMP:20260422T142650
CREATED:20250630T165026Z
LAST-MODIFIED:20250702T081321Z
UID:68446-1756040400-1756051200@pawsandprayers.org
SUMMARY:Paws and Prayers @ The Winery at Wolf Creek
DESCRIPTION:Join us for an afternoon of wagging tails!\nThe Winery at Wolf Creek from 1:00 – 4:00 pm! Your $12 ticket gets you a refreshing drink and one entry into a raffle for a great prize!Dogs are welcome on the patio\, but not inside the tasting room!\nA generous portion of proceeds benefit Paws and Prayers.The Winery at Wolf Creek is located at 2637 S. Cleveland Massillon Rd.\, Norton\, Ohio.
URL:https://pawsandprayers.org/event/wags-wine-fundraiser-2/
LOCATION:The Winery at Wolf Creek\, 2637 S. Cleveland Massillon Rd.\, Norton\, OH\, 44203\, United States
CATEGORIES:Fundraiser
ATTACH;FMTTYPE=image/png:https://pawsandprayers.org/wp-content/uploads/2025/06/web-calendar-image-wolf-creek-1.png
END:VEVENT
BEGIN:VEVENT
DTSTART;TZID=America/New_York:20250830T090000
DTEND;TZID=America/New_York:20250830T180000
DTSTAMP:20260422T142650
CREATED:20250610T125748Z
LAST-MODIFIED:20250610T125748Z
UID:68137-1756544400-1756576800@pawsandprayers.org
SUMMARY:Volley for the Pets 2025 @ Summit Sports & Social
DESCRIPTION:COED Sand 6’s Volleyball Tournament. C\, B\, BB level. Teams will be divided evenly as per previous years. At least 2-girls per team required. No girl-rule.\nCOST: $240 per team. \nAuction baskets\, 50/50\, drink specials \nMaterial donations accepted (food\, beds\, litter\, cleaning supplies\, etc.) \nCONTACT: Ben Denker\nE: volley4pets@gmail.com \nEvent by Ben Denker\, Amber Denker and Andrew Novak
URL:https://pawsandprayers.org/event/volley-for-the-pets-2025-summit-sports-social/
LOCATION:Summit Sports & Social\, 123 W. Bartges St.\, Akron\, OH\, 44311\, United States
CATEGORIES:Fundraiser
ATTACH;FMTTYPE=image/png:https://pawsandprayers.org/wp-content/uploads/2025/06/website-calendar.png
END:VEVENT
BEGIN:VEVENT
DTSTART;TZID=America/New_York:20250830T160000
DTEND;TZID=America/New_York:20250830T200000
DTSTAMP:20260422T142650
CREATED:20250817T145441Z
LAST-MODIFIED:20250817T145751Z
UID:66250-1756569600-1756584000@pawsandprayers.org
SUMMARY:Chipotle Purritos for Paws
DESCRIPTION:Dine at Chipotle on August 30th from 4pm-8pm and support Paws and Prayers!\n994 Graham Rd.\, Cuyahoga Falls\, OH 44221\n(234) 542-8825 \nThis location is pre-order\, drive thru pick up ONLY so be sure to use code DYFETZD at check out to support Paws and Prayers!  \n \n  \n 
URL:https://pawsandprayers.org/event/https-www-facebook-com-events-1400747261006076/
LOCATION:Chipotle Mexican Grill\, 994 Graham Rd\, Cuyahoga Falls\, OH\, 44221\, United States
CATEGORIES:Fundraiser
ATTACH;FMTTYPE=image/png:https://pawsandprayers.org/wp-content/uploads/2025/01/Chipotle-web-2025.png
END:VEVENT
END:VCALENDAR