BEGIN:VCALENDAR
VERSION:2.0
PRODID:-//Paws and Prayers - ECPv6.15.20//NONSGML v1.0//EN
CALSCALE:GREGORIAN
METHOD:PUBLISH
X-ORIGINAL-URL:https://pawsandprayers.org
X-WR-CALDESC:Events for Paws and Prayers
REFRESH-INTERVAL;VALUE=DURATION:PT1H
X-Robots-Tag:noindex
X-PUBLISHED-TTL:PT1H
BEGIN:VTIMEZONE
TZID:America/New_York
BEGIN:DAYLIGHT
TZOFFSETFROM:-0500
TZOFFSETTO:-0400
TZNAME:EDT
DTSTART:20240310T070000
END:DAYLIGHT
BEGIN:STANDARD
TZOFFSETFROM:-0400
TZOFFSETTO:-0500
TZNAME:EST
DTSTART:20241103T060000
END:STANDARD
BEGIN:DAYLIGHT
TZOFFSETFROM:-0500
TZOFFSETTO:-0400
TZNAME:EDT
DTSTART:20250309T070000
END:DAYLIGHT
BEGIN:STANDARD
TZOFFSETFROM:-0400
TZOFFSETTO:-0500
TZNAME:EST
DTSTART:20251102T060000
END:STANDARD
BEGIN:DAYLIGHT
TZOFFSETFROM:-0500
TZOFFSETTO:-0400
TZNAME:EDT
DTSTART:20260308T070000
END:DAYLIGHT
BEGIN:STANDARD
TZOFFSETFROM:-0400
TZOFFSETTO:-0500
TZNAME:EST
DTSTART:20261101T060000
END:STANDARD
END:VTIMEZONE
BEGIN:VEVENT
DTSTART;TZID=America/New_York:20250903T183500
DTEND;TZID=America/New_York:20250903T213000
DTSTAMP:20260422T131018
CREATED:20250528T133934Z
LAST-MODIFIED:20250528T133934Z
UID:67948-1756924500-1756935000@pawsandprayers.org
SUMMARY:PLINKO @ Akron Rubber Ducks Game
DESCRIPTION:Paws and Prayers Pet Rescue is setting up shop on the concourse\, inviting fans to try their luck with a “drop” down the PLINKO board for a chance to snag fabulous prizes. It’s a win-win: score a prize for yourself and a slice of the proceeds goes to support our furry friends at Paws and Prayers! \n(end game time is estimated) \nBuy game tickets online.
URL:https://pawsandprayers.org/event/plinko-akron-rubber-ducks-game-2/
LOCATION:Canal Park\, 300 South Main St\, Akron\, OH\, 44308
CATEGORIES:Fundraiser
ATTACH;FMTTYPE=image/png:https://pawsandprayers.org/wp-content/uploads/2025/05/tAkron-RubberDucks-Logo-1.png
END:VEVENT
BEGIN:VEVENT
DTSTART;TZID=America/New_York:20250906T100000
DTEND;TZID=America/New_York:20250906T130000
DTSTAMP:20260422T131018
CREATED:20250609T164742Z
LAST-MODIFIED:20250609T164742Z
UID:68117-1757152800-1757163600@pawsandprayers.org
SUMMARY:Adoption Event @ Valley Motor City
DESCRIPTION:Swing by Valley Motor City on Saturday\, September 6\, between 10:00 AM and 1:00 PM to meet our cuddly crew of adoptable pets! If a certain furry friend has captured your heart\, give their foster a shout to make sure they’ll be there. Remember\, Paws and Prayers has a pre-approval process and sticks to high standards for all pet parents-to-be\, so no impromptu adoptions.
URL:https://pawsandprayers.org/event/adoption-event-valley-motor-city/
LOCATION:Valley Motor City\, 4100 State Rd\, Cuyahoga Falls\, OH\, 44223\, United States
CATEGORIES:Adoption Event
ATTACH;FMTTYPE=image/png:https://pawsandprayers.org/wp-content/uploads/2025/06/webPnPsVC.png
END:VEVENT
BEGIN:VEVENT
DTSTART;TZID=America/New_York:20250913T100000
DTEND;TZID=America/New_York:20250913T120000
DTSTAMP:20260422T131018
CREATED:20240918T222752Z
LAST-MODIFIED:20250709T115514Z
UID:64191-1757757600-1757764800@pawsandprayers.org
SUMMARY:Adoption Event @ Chapel Hill Tractor Supply
DESCRIPTION:Swing by and get your heart melted by our super cute adoptable furballs! \nWe’ll be hanging out at Chapel Hill Tractor Supply from 10:00 AM to 12:00 PM. \nIf you’ve got your eye on a certain pet superstar\, give the foster a shout to make sure they’re ready for their close-up! \nJust a heads-up: Paws and Prayers rolls with some pre-approval magic and has standards for all would-be pet parents\, so no spontaneous adoptions here—let’s keep it classy!
URL:https://pawsandprayers.org/event/adoption-event-chapel-hill-tractor-supply-12/
LOCATION:Chapel Hill Tractor Supply\, 2003 Buchholzer Blvd.\, Akron\, OH\, 44310\, United States
CATEGORIES:Adoption Event
ATTACH;FMTTYPE=image/png:https://pawsandprayers.org/wp-content/uploads/2024/09/Feature-Pix-PnPsTSC.png
END:VEVENT
BEGIN:VEVENT
DTSTART;TZID=America/New_York:20250913T110000
DTEND;TZID=America/New_York:20250913T140000
DTSTAMP:20260422T131018
CREATED:20250910T132945Z
LAST-MODIFIED:20250910T133211Z
UID:69582-1757761200-1757772000@pawsandprayers.org
SUMMARY:Adoption Event @ Medina PetSmart
DESCRIPTION:Come wag your way over and meet our cuddly cuties! We’ll be hanging out at Medina PetSmart from 11:00 am to 2:00 pm\, and trust us\, this is one tail-wagging event you don’t want to skip! Just a quick heads-up: Paws and Prayers has a pre-approval process for all you aspiring pet parents—so no spur-of-the-moment adoptions!\nScheduled to make appearances are:\nMiss Lindsey Bagel\nPuppy Amy\nand a few of Honey’s puppers \nShoot an email to Sheri at sswank1@gmail.com to find out which of Honey’s pups will be making a star appearance at the event!
URL:https://pawsandprayers.org/event/adoption-event-medina-petsmart-10/
LOCATION:Medina PetSmart\, 5011 Grande Blvd\, Medina\, OH\, 44256\, United States
CATEGORIES:Adoption Event
ATTACH;FMTTYPE=image/png:https://pawsandprayers.org/wp-content/uploads/2024/12/web-feature-image-PnPsPS-small.png
END:VEVENT
BEGIN:VEVENT
DTSTART;TZID=America/New_York:20250914T130000
DTEND;TZID=America/New_York:20250914T160000
DTSTAMP:20260422T131018
CREATED:20250630T165157Z
LAST-MODIFIED:20250702T081357Z
UID:68448-1757854800-1757865600@pawsandprayers.org
SUMMARY:Paws and Prayers @ The Winery at Wolf Creek
DESCRIPTION:Join us for an afternoon of wagging tails!\nThe Winery at Wolf Creek from 1:00 – 4:00 pm! Your $12 ticket gets you a refreshing drink and one entry into a raffle for a great prize!Dogs are welcome on the patio\, but not inside the tasting room!\nA generous portion of proceeds benefit Paws and Prayers.The Winery at Wolf Creek is located at 2637 S. Cleveland Massillon Rd.\, Norton\, Ohio.
URL:https://pawsandprayers.org/event/wags-wine-fundraiser-3/
LOCATION:The Winery at Wolf Creek\, 2637 S. Cleveland Massillon Rd.\, Norton\, OH\, 44203\, United States
CATEGORIES:Fundraiser
ATTACH;FMTTYPE=image/png:https://pawsandprayers.org/wp-content/uploads/2025/06/web-calendar-image-wolf-creek-1.png
END:VEVENT
BEGIN:VEVENT
DTSTART;TZID=America/New_York:20250920T110000
DTEND;TZID=America/New_York:20250920T130000
DTSTAMP:20260422T131018
CREATED:20250522T154422Z
LAST-MODIFIED:20250522T154452Z
UID:67865-1758366000-1758373200@pawsandprayers.org
SUMMARY:Adoption Event @ Montrose PetSmart
DESCRIPTION:Pop over and say hi to our lovable\, adoptable furballs! We’ll be chilling at Montrose PetSmart from 11am to 1pm\, so swing by! If there’s a special critter\, you’re eager to meet\, give their foster a holler to ensure they’re joining the fun. *Heads up\, you’ll need an approved application to take one of these cuties home. Apply on our website and let the pet-parenting escapades commence!
URL:https://pawsandprayers.org/event/adoption-event-montrose-petsmart-37/
LOCATION:Montrose PetSmart\, 3750 W Market St\, Fairlawn\, OH\, 44333\, United States
CATEGORIES:Adoption Event
ATTACH;FMTTYPE=image/png:https://pawsandprayers.org/wp-content/uploads/2024/12/web-feature-image-PnPsPS-small.png
END:VEVENT
BEGIN:VEVENT
DTSTART;TZID=America/New_York:20250921T100000
DTEND;TZID=America/New_York:20250921T150000
DTSTAMP:20260422T131018
CREATED:20250529T124034Z
LAST-MODIFIED:20250529T124034Z
UID:67969-1758448800-1758466800@pawsandprayers.org
SUMMARY:Paw Fest @ Bow Wow Beach Dog Park
DESCRIPTION:Come wag your tails with Paws and Prayers at the annual Paw Fest at Bow Wow Beach in Stow from 10 am – 3 pm! (rain or shine)\nSponsored by the Stow-Munroe Falls Lions Club \nSnuggle up to our cozy crate pads and pet beds for sale\, and meet some adorable\, adoptable doggos! Remember\, we’re not into “love at first sight” adoptions—you’ll need a completed and approved application and an appointment to take home your new furry pal. \nJust $1 donation for parking or donate your old eyeglasses to get in on the fun! \nEnjoy dog vendors\, pet rescue groups\, raffles\, doggy contests\, and chow down on delicious food! 🐾🎉
URL:https://pawsandprayers.org/event/paw-fest-bow-wow-beach-dog-park-2/
LOCATION:Bow Wow Beach Dog Park\, Silver Springs Park\, 5027 Stow Road\, Stow\, OH\, 44224\, United States
CATEGORIES:Festival
ATTACH;FMTTYPE=image/png:https://pawsandprayers.org/wp-content/uploads/2025/05/1_PawFest2025web.png
END:VEVENT
BEGIN:VEVENT
DTSTART;TZID=America/New_York:20250927T120000
DTEND;TZID=America/New_York:20250927T140000
DTSTAMP:20260422T131018
CREATED:20250711T172210Z
LAST-MODIFIED:20250711T172210Z
UID:68601-1758974400-1758981600@pawsandprayers.org
SUMMARY:Adoption Event @ Medina PetSmart
DESCRIPTION:Leap into action and meet our cuddly crew of adoptables! Catch us at Medina PetSmart from 12:00 to 2:00 PM for a tail-wagging good time you absolutely can’t skip! Just a quick heads-up: Paws and Prayers has a pre-approval process\, so all you aspiring fur-parents\, no spontaneous adoptions\, please! 🐾 \nEmail Sheri at sswank1@gmail.com to find out which pets will be in attendance at this event.
URL:https://pawsandprayers.org/event/adoption-event-medina-petsmart-6/
LOCATION:Medina PetSmart\, 5011 Grande Blvd\, Medina\, OH\, 44256\, United States
CATEGORIES:Adoption Event
ATTACH;FMTTYPE=image/png:https://pawsandprayers.org/wp-content/uploads/2024/12/web-feature-image-PnPsPS-small.png
END:VEVENT
BEGIN:VEVENT
DTSTART;TZID=America/New_York:20250928T100000
DTEND;TZID=America/New_York:20250928T150000
DTSTAMP:20260422T131018
CREATED:20250829T103303Z
LAST-MODIFIED:20250829T164439Z
UID:69416-1759053600-1759071600@pawsandprayers.org
SUMMARY:Paws and Prayers @ Central Bark's "Bark to School" Open House & Adoption Event
DESCRIPTION:Join the fun and meet some of our adorable adoptables alongside other local rescues at Central Bark’s “Bark to School” Open House and Adoption Event! Swing by on Sunday\, September 28th\, from 10 am to 3 pm at 3001 Towpath Rd.\, Broadview Heights\, OH 44147.\nThere will be “Meet the Teacher”\, $5 Nail Trims\, Pet Food Vendors & a Scavenger Hunt. \n• Paws and Prayers will be selling our famous pet beds & crate pads \nHold your horses—or should we say\, puppies—because Paws and Prayers Pet Rescue doesn’t do “on the spot” adoptions. You’ll need an approved application and appointment to take home a furry friend! \n 
URL:https://pawsandprayers.org/event/paws-and-prayers-central-barks-bark-to-school-open-house-adoption-event/
LOCATION:Central Bark Broadview Heights\, 3001 Towpath Rd.\, Broadview Heights\, OH\, 44147
CATEGORIES:Open House / Adoption Event
ATTACH;FMTTYPE=image/jpeg:https://pawsandprayers.org/wp-content/uploads/2025/08/CB1.jpg
ORGANIZER;CN="Central Bark Broadview Heights":MAILTO:bvh@centralbarkusa.com
END:VEVENT
END:VCALENDAR