BEGIN:VCALENDAR
VERSION:2.0
PRODID:-//Paws and Prayers - ECPv6.15.20//NONSGML v1.0//EN
CALSCALE:GREGORIAN
METHOD:PUBLISH
X-WR-CALNAME:Paws and Prayers
X-ORIGINAL-URL:https://pawsandprayers.org
X-WR-CALDESC:Events for Paws and Prayers
REFRESH-INTERVAL;VALUE=DURATION:PT1H
X-Robots-Tag:noindex
X-PUBLISHED-TTL:PT1H
BEGIN:VTIMEZONE
TZID:America/New_York
BEGIN:DAYLIGHT
TZOFFSETFROM:-0500
TZOFFSETTO:-0400
TZNAME:EDT
DTSTART:20240310T070000
END:DAYLIGHT
BEGIN:STANDARD
TZOFFSETFROM:-0400
TZOFFSETTO:-0500
TZNAME:EST
DTSTART:20241103T060000
END:STANDARD
BEGIN:DAYLIGHT
TZOFFSETFROM:-0500
TZOFFSETTO:-0400
TZNAME:EDT
DTSTART:20250309T070000
END:DAYLIGHT
BEGIN:STANDARD
TZOFFSETFROM:-0400
TZOFFSETTO:-0500
TZNAME:EST
DTSTART:20251102T060000
END:STANDARD
BEGIN:DAYLIGHT
TZOFFSETFROM:-0500
TZOFFSETTO:-0400
TZNAME:EDT
DTSTART:20260308T070000
END:DAYLIGHT
BEGIN:STANDARD
TZOFFSETFROM:-0400
TZOFFSETTO:-0500
TZNAME:EST
DTSTART:20261101T060000
END:STANDARD
END:VTIMEZONE
BEGIN:VEVENT
DTSTART;TZID=America/New_York:20251006T235900
DTEND;TZID=America/New_York:20251006T235900
DTSTAMP:20260422T114723
CREATED:20250820T081553Z
LAST-MODIFIED:20250820T082001Z
UID:69216-1759795140-1759795140@pawsandprayers.org
SUMMARY:Deadline to Pre-Order 2026 Paws and Prayers Alumni Pets Calendar
DESCRIPTION:Be sure to pre-order your 2026 Paws and Prayers Alumni Pets Calendar\nDeadline 11:59 pm\, October 6\, 2025\nOrder more than 1 to save on shipping.\nCost: $20.00 + shipping. Shipping varies on quantity and zip code    <<<CLICK HERE TO ORDER \nThese ship direct from publisher\, we will not be ordering extra
URL:https://pawsandprayers.org/event/deadline-to-pre-order-2026-paws-and-prayers-alumni-pets-calendar/
LOCATION:OH
CATEGORIES:Fundraiser
ATTACH;FMTTYPE=image/png:https://pawsandprayers.org/wp-content/uploads/2025/08/2026-Calendar-Cover.png
END:VEVENT
BEGIN:VEVENT
DTSTART;TZID=America/New_York:20251011T100000
DTEND;TZID=America/New_York:20251011T120000
DTSTAMP:20260422T114723
CREATED:20240918T223830Z
LAST-MODIFIED:20250709T115422Z
UID:64194-1760176800-1760184000@pawsandprayers.org
SUMMARY:Adoption Event @ Chapel Hill Tractor Supply
DESCRIPTION:Swing by and snuggle some of our super cute adoptable furballs! \nWe’re popping up at Chapel Hill Tractor Supply from 10:00 AM to 12:00 PM\, and trust me\, you won’t want to miss this! \nIf you’ve got your heart set on meeting a special pet\, give their foster a shout to make sure they’re on the guest list. \nJust a heads-up: Paws and Prayers likes to keep things classy\, so we need a little pre-approval before you take home your new best friend—no surprise adoptions here!
URL:https://pawsandprayers.org/event/adoption-event-chapel-hill-tractor-supply-13/
LOCATION:Chapel Hill Tractor Supply\, 2003 Buchholzer Blvd.\, Akron\, OH\, 44310\, United States
CATEGORIES:Adoption Event
ATTACH;FMTTYPE=image/png:https://pawsandprayers.org/wp-content/uploads/2024/09/Feature-Pix-PnPsTSC.png
END:VEVENT
BEGIN:VEVENT
DTSTART;TZID=America/New_York:20251018T110000
DTEND;TZID=America/New_York:20251018T130000
DTSTAMP:20260422T114723
CREATED:20250522T154637Z
LAST-MODIFIED:20250522T154637Z
UID:67867-1760785200-1760792400@pawsandprayers.org
SUMMARY:Adoption Event @ Montrose PetSmart
DESCRIPTION:Join us for a delightful rendezvous with our charming adoptable furballs! We’ll be frolicking at Montrose PetSmart from 11 AM to 1 PM\, so don’t miss the chance to come on down! If there’s a specific furry friend\, you’re eager to meet\, simply reach out to the foster to confirm their presence at the gathering.\n*Keep in mind\, an approved application is required to welcome one of these adorable companions into your home. Complete your application on our website and let the enchanting journey of pet-parenting commence!
URL:https://pawsandprayers.org/event/adoption-event-montrose-petsmart-38/
LOCATION:Montrose PetSmart\, 3750 W Market St\, Fairlawn\, OH\, 44333\, United States
CATEGORIES:Adoption Event
ATTACH;FMTTYPE=image/png:https://pawsandprayers.org/wp-content/uploads/2024/12/web-feature-image-PnPsPS-small.png
END:VEVENT
BEGIN:VEVENT
DTSTART;TZID=America/New_York:20251018T140000
DTEND;TZID=America/New_York:20251018T190000
DTSTAMP:20260422T114723
CREATED:20251006T072656Z
LAST-MODIFIED:20251006T080218Z
UID:69957-1760796000-1760814000@pawsandprayers.org
SUMMARY:Paws & Pints: Mini Crawl @ The Basement Sports Bar & Grill and The Getaway Pub (Merriman Valley)
DESCRIPTION:Paws & Pints Mini Crawl Saturday\, October 18 from 2PM–7PMBenefiting Paws and Prayers Pet Rescue\nJoin us for a fun-filled afternoon supporting a great cause — one pint (or two!) at a time!\nYour $20 participation fee includes a wristband for exclusive drink specials at both participating locations: The Basement Sports Bar & Grill and The Getaway Pub. (located in the heart of Merriman Valley)\nPurchase tickets here: https://buy.stripe.com/4gMeVe5DN72m2xH1887g40b\n Complete your Mini Crawl Passport by visiting both bars and be entered into our raffle basket drawings filled with great prizes!\nBring your friends\, enjoy some drinks\, and help raise funds for local pets in need.\nMust be 21+ to participate.\n Drink. Crawl. Save Lives.
URL:https://pawsandprayers.org/event/paws-pints-mini-crawl/
LOCATION:Merriman Valley Tow Path\, 1670 Merriman Rd\, Akron\, OH\, 44313\, United States
CATEGORIES:Fundraiser
ATTACH;FMTTYPE=image/png:https://pawsandprayers.org/wp-content/uploads/2025/10/Paws-and-Pints_W.png
END:VEVENT
BEGIN:VEVENT
DTSTART;TZID=America/New_York:20251025T120000
DTEND;TZID=America/New_York:20251025T140000
DTSTAMP:20260422T114723
CREATED:20250822T203823Z
LAST-MODIFIED:20250822T203823Z
UID:69256-1761393600-1761400800@pawsandprayers.org
SUMMARY:Adoption Event @ Medina PetSmart
DESCRIPTION:Jump into the fun and meet our fluffy squad of adoptables! Swing by Medina PetSmart between 12:00 and 2:00 PM for a tail-wagging extravaganza you won’t want to miss! Quick bark-out: Paws and Prayers runs a pre-approval show\, so no spur-of-the-moment pet adoptions! \nEmail Sheri at sswank1@gmail.com to discover which furry faces will be gracing us with their presence at the event.
URL:https://pawsandprayers.org/event/adoption-event-medina-petsmart-7/
LOCATION:Medina PetSmart\, 5011 Grande Blvd\, Medina\, OH\, 44256\, United States
CATEGORIES:Adoption Event
ATTACH;FMTTYPE=image/png:https://pawsandprayers.org/wp-content/uploads/2025/08/PnPsPS_small.png
END:VEVENT
END:VCALENDAR