BEGIN:VCALENDAR
VERSION:2.0
PRODID:-//Paws and Prayers - ECPv6.15.20//NONSGML v1.0//EN
CALSCALE:GREGORIAN
METHOD:PUBLISH
X-ORIGINAL-URL:https://pawsandprayers.org
X-WR-CALDESC:Events for Paws and Prayers
REFRESH-INTERVAL;VALUE=DURATION:PT1H
X-Robots-Tag:noindex
X-PUBLISHED-TTL:PT1H
BEGIN:VTIMEZONE
TZID:America/New_York
BEGIN:DAYLIGHT
TZOFFSETFROM:-0500
TZOFFSETTO:-0400
TZNAME:EDT
DTSTART:20250309T070000
END:DAYLIGHT
BEGIN:STANDARD
TZOFFSETFROM:-0400
TZOFFSETTO:-0500
TZNAME:EST
DTSTART:20251102T060000
END:STANDARD
BEGIN:DAYLIGHT
TZOFFSETFROM:-0500
TZOFFSETTO:-0400
TZNAME:EDT
DTSTART:20260308T070000
END:DAYLIGHT
BEGIN:STANDARD
TZOFFSETFROM:-0400
TZOFFSETTO:-0500
TZNAME:EST
DTSTART:20261101T060000
END:STANDARD
BEGIN:DAYLIGHT
TZOFFSETFROM:-0500
TZOFFSETTO:-0400
TZNAME:EDT
DTSTART:20270314T070000
END:DAYLIGHT
BEGIN:STANDARD
TZOFFSETFROM:-0400
TZOFFSETTO:-0500
TZNAME:EST
DTSTART:20271107T060000
END:STANDARD
END:VTIMEZONE
BEGIN:VEVENT
DTSTART;TZID=America/New_York:20260904T191700
DTEND;TZID=America/New_York:20260904T220000
DTSTAMP:20260422T100329
CREATED:20260319T135517Z
LAST-MODIFIED:20260319T141743Z
UID:71348-1788549420-1788559200@pawsandprayers.org
SUMMARY:PLINKO @ Akron Rubber Ducks Game
DESCRIPTION:Paws and Prayers Pet Rescue is setting up shop on the concourse\, inviting fans to try their luck with a “drop” down the PLINKO board for a chance to snag fabulous prizes. It’s a win-win: score a prize for yourself and a slice of the proceeds goes to support our furry friends at Paws and Prayers! \n(end game time is estimated) \nBuy game tickets online
URL:https://pawsandprayers.org/event/plinko-akron-rubber-ducks-game-6/
LOCATION:Canal Park\, 300 South Main St\, Akron\, OH\, 44308
CATEGORIES:Fundraiser
ATTACH;FMTTYPE=image/png:https://pawsandprayers.org/wp-content/uploads/2025/05/tAkron-RubberDucks-Logo-1.png
END:VEVENT
BEGIN:VEVENT
DTSTART;VALUE=DATE:20260905
DTEND;VALUE=DATE:20260906
DTSTAMP:20260422T100329
CREATED:20260405T091253Z
LAST-MODIFIED:20260405T091318Z
UID:71446-1788566400-1788652799@pawsandprayers.org
SUMMARY:Save the Date - Volley for the Pets 2026
DESCRIPTION:Mark your calendars\, more info to come
URL:https://pawsandprayers.org/event/save-the-date-volley-for-the-pets/
LOCATION:OH
CATEGORIES:Fundraiser
ATTACH;FMTTYPE=image/png:https://pawsandprayers.org/wp-content/uploads/2026/04/web-Volley-copy.png
END:VEVENT
BEGIN:VEVENT
DTSTART;TZID=America/New_York:20260912T100000
DTEND;TZID=America/New_York:20260912T120000
DTSTAMP:20260422T100329
CREATED:20251103T065800Z
LAST-MODIFIED:20251103T065800Z
UID:70244-1789207200-1789214400@pawsandprayers.org
SUMMARY:Adoption Event @ Chapel Hill Tractor Supply
DESCRIPTION:Swing by Chapel Hill Tractor Supply from 10 am to Noon for a dose of furry cuteness!\nGot your heart set on a specific fluffy friend? Give their foster a shout to make sure they’ll be there.\n*Adoptions need a thumbs-up on your application. 🐾
URL:https://pawsandprayers.org/event/adoption-event-chapel-hill-tractor-supply-24/
LOCATION:Chapel Hill Tractor Supply\, 2003 Buchholzer Blvd.\, Akron\, OH\, 44310\, United States
CATEGORIES:Adoption Event
ATTACH;FMTTYPE=image/png:https://pawsandprayers.org/wp-content/uploads/2024/09/Feature-Pix-PnPsTSC.png
END:VEVENT
BEGIN:VEVENT
DTSTART;TZID=America/New_York:20260918T183000
DTEND;TZID=America/New_York:20260918T203000
DTSTAMP:20260422T100329
CREATED:20260412T075636Z
LAST-MODIFIED:20260412T144410Z
UID:71487-1789756200-1789763400@pawsandprayers.org
SUMMARY:Pins for Paws and Prayers @ Station 330 (Akron)
DESCRIPTION:Join us for a night of bowling! Friday\, September 18 beginning at 6:30 pm at Station 330 (Akron)\nPins for Paws and Prayers will be a night of bowling\, fun\, and raffle baskets! $20 includes shoes and two hours of bowling.\nAll proceed benefit the animals of Paws and Prayers. Food & Drink available for purchase. \nLanes hold up to 6 bowlers. If you do not sign up for a whole team\, you may be placed with other attendees.\nPlease email your team information to fundraising@pawsandprayers.org \nPurchase tickets here >> https://book.stripe.com/00waEYfen72m2xHdUU7g40e
URL:https://pawsandprayers.org/event/pins-for-paws-and-prayers-2/
LOCATION:Station330 Akron\, 580 E Cuyahoga Falls Ave\, Akron\, OH\, 44310
CATEGORIES:Fundraiser
ATTACH;FMTTYPE=image/png:https://pawsandprayers.org/wp-content/uploads/2026/04/PFP_web.png
END:VEVENT
BEGIN:VEVENT
DTSTART;TZID=America/New_York:20260919T110000
DTEND;TZID=America/New_York:20260919T130000
DTSTAMP:20260422T100329
CREATED:20251103T074609Z
LAST-MODIFIED:20251103T074609Z
UID:70268-1789815600-1789822800@pawsandprayers.org
SUMMARY:Adoption Event @ Montrose PetSmart
DESCRIPTION:Come by and meet our adorable furballs!\nWe’ll be at Montrose PetSmart from 11 AM to 1 PM. Have a furry friend in mind?\nGive their foster a holler (details in their bio) to ensure they’ll be there\, tail wagging just for you.\nPaws and Prayers plays it cool with NO on-the-spot adoptions\, you’ll need an approved application to bring your new buddy home!
URL:https://pawsandprayers.org/event/adoption-event-montrose-petsmart-49/
LOCATION:Montrose PetSmart\, 3750 W Market St\, Fairlawn\, OH\, 44333\, United States
CATEGORIES:Adoption Event
ATTACH;FMTTYPE=image/png:https://pawsandprayers.org/wp-content/uploads/2024/10/web-feature-image-PnPsPS-small-3.png
END:VEVENT
BEGIN:VEVENT
DTSTART;TZID=America/New_York:20260926T120000
DTEND;TZID=America/New_York:20260926T140000
DTSTAMP:20260422T100329
CREATED:20251103T083406Z
LAST-MODIFIED:20251103T083406Z
UID:70301-1790424000-1790431200@pawsandprayers.org
SUMMARY:Adoption Event @ Medina PetSmart
DESCRIPTION:Dive headfirst into the fluff-tastic fun and meet our adorable gang of adoptable critters! Swing by Medina PetSmart from 12:00 to 2:00 PM for a tail-wagging spectacle you simply can’t skip!\nQuick woof: Paws and Prayers operates a pre-approval dance\, so no last-minute pet snatching!\nShoot an email to Sheri at sswank1@gmail.com to find out which furry VIPs will be making their grand entrance at the event.
URL:https://pawsandprayers.org/event/adoption-event-medina-petsmart-19/
LOCATION:Medina PetSmart\, 5011 Grande Blvd\, Medina\, OH\, 44256\, United States
CATEGORIES:Adoption Event
ATTACH;FMTTYPE=image/png:https://pawsandprayers.org/wp-content/uploads/2024/10/web-feature-image-PnPsPS-small-3.png
END:VEVENT
END:VCALENDAR