BEGIN:VCALENDAR
VERSION:2.0
PRODID:-//Paws and Prayers - ECPv6.15.20//NONSGML v1.0//EN
CALSCALE:GREGORIAN
METHOD:PUBLISH
X-ORIGINAL-URL:https://pawsandprayers.org
X-WR-CALDESC:Events for Paws and Prayers
REFRESH-INTERVAL;VALUE=DURATION:PT1H
X-Robots-Tag:noindex
X-PUBLISHED-TTL:PT1H
BEGIN:VTIMEZONE
TZID:America/New_York
BEGIN:DAYLIGHT
TZOFFSETFROM:-0500
TZOFFSETTO:-0400
TZNAME:EDT
DTSTART:20250309T070000
END:DAYLIGHT
BEGIN:STANDARD
TZOFFSETFROM:-0400
TZOFFSETTO:-0500
TZNAME:EST
DTSTART:20251102T060000
END:STANDARD
BEGIN:DAYLIGHT
TZOFFSETFROM:-0500
TZOFFSETTO:-0400
TZNAME:EDT
DTSTART:20260308T070000
END:DAYLIGHT
BEGIN:STANDARD
TZOFFSETFROM:-0400
TZOFFSETTO:-0500
TZNAME:EST
DTSTART:20261101T060000
END:STANDARD
BEGIN:DAYLIGHT
TZOFFSETFROM:-0500
TZOFFSETTO:-0400
TZNAME:EDT
DTSTART:20270314T070000
END:DAYLIGHT
BEGIN:STANDARD
TZOFFSETFROM:-0400
TZOFFSETTO:-0500
TZNAME:EST
DTSTART:20271107T060000
END:STANDARD
END:VTIMEZONE
BEGIN:VEVENT
DTSTART;TZID=America/New_York:20261003T110000
DTEND;TZID=America/New_York:20261003T130000
DTSTAMP:20260422T114841
CREATED:20260112T175100Z
LAST-MODIFIED:20260112T175100Z
UID:70872-1791025200-1791032400@pawsandprayers.org
SUMMARY:Adoption Event @ Canton Hollywood Feed
DESCRIPTION:We’ll be hanging out at Canton Hollywood Feed from 11 am to 1 pm.\nSpot a little heart-stealer you can’t resist? Give their foster a holler (check out their bio for deets) to ensure they’ll be there\, ready to wag and wiggle just for you.\nJust a heads-up\, Paws and Prayers doesn’t do instant adoptions. Remember\, you’ll need an approved application for that tail-wagging happily ever after!
URL:https://pawsandprayers.org/event/adoption-event-canton-hollywood-feed-4/
LOCATION:Canton Hollywood Feed\, 4631 Everhard Rd NW\, Canton\, OH\, 44718\, United States
CATEGORIES:Adoption Event
ATTACH;FMTTYPE=image/png:https://pawsandprayers.org/wp-content/uploads/2018/03/HWF_PnPs_Web.png
END:VEVENT
BEGIN:VEVENT
DTSTART;TZID=America/New_York:20261010T100000
DTEND;TZID=America/New_York:20261010T120000
DTSTAMP:20260422T114841
CREATED:20251103T070114Z
LAST-MODIFIED:20251103T070114Z
UID:70246-1791626400-1791633600@pawsandprayers.org
SUMMARY:Adoption Event @ Chapel Hill Tractor Supply
DESCRIPTION:Swing by Chapel Hill Tractor Supply between 10 am and noon to mingle with some adorable\, adoptable furballs!\nGot your eye on a specific critter? Make sure to contact their foster from the bio to ensure they’re making an appearance.\nJust a heads-up: Paws and Prayers doesn’t do instant adoptions. You’ll need an approved application to make a furry friend official!
URL:https://pawsandprayers.org/event/adoption-event-chapel-hill-tractor-supply-25/
LOCATION:Chapel Hill Tractor Supply\, 2003 Buchholzer Blvd.\, Akron\, OH\, 44310\, United States
CATEGORIES:Adoption Event
ATTACH;FMTTYPE=image/png:https://pawsandprayers.org/wp-content/uploads/2024/09/Feature-Pix-PnPsTSC.png
END:VEVENT
BEGIN:VEVENT
DTSTART;TZID=America/New_York:20261017T110000
DTEND;TZID=America/New_York:20261017T130000
DTSTAMP:20260422T114841
CREATED:20251103T074951Z
LAST-MODIFIED:20251103T075035Z
UID:70270-1792234800-1792242000@pawsandprayers.org
SUMMARY:Adoption Event @ Montrose PetSmart
DESCRIPTION:Stop by and meet some of our furry charmers up for adoption!\nWe’ll be hanging out at Montrose PetSmart from 11 am to 1 pm. Got a special furball in mind? Shoot their foster an email (check their bio for details) to ensure they’ll be there\, ready to wag just for you.\nKeep in mind\, Paws and Prayers isn’t a speedy adoption drive-thru. You’ll need to get your application approved first!
URL:https://pawsandprayers.org/event/adoption-event-montrose-petsmart-50/
LOCATION:Montrose PetSmart\, 3750 W Market St\, Fairlawn\, OH\, 44333\, United States
CATEGORIES:Adoption Event
ATTACH;FMTTYPE=image/png:https://pawsandprayers.org/wp-content/uploads/2024/10/web-feature-image-PnPsPS-small-3.png
END:VEVENT
BEGIN:VEVENT
DTSTART;TZID=America/New_York:20261024T120000
DTEND;TZID=America/New_York:20261024T140000
DTSTAMP:20260422T114841
CREATED:20251103T083551Z
LAST-MODIFIED:20251103T083551Z
UID:70303-1792843200-1792850400@pawsandprayers.org
SUMMARY:Adoption Event @ Medina PetSmart
DESCRIPTION:We’ll be at Medina PetSmart from 12:00 pm to 2:00 pm with some adoptable pets. Email Sheri at sswank1@gmail.com to find out which fur buddies will be in attendance.\nRemember\, Paws and Prayers does not do on the spot adoptions.\nApproved applications and appointments are needed to take home your furbaby.
URL:https://pawsandprayers.org/event/adoption-event-medina-petsmart-20/
LOCATION:Medina PetSmart\, 5011 Grande Blvd\, Medina\, OH\, 44256\, United States
CATEGORIES:Adoption Event
ATTACH;FMTTYPE=image/png:https://pawsandprayers.org/wp-content/uploads/2024/10/web-feature-image-PnPsPS-small-3.png
END:VEVENT
END:VCALENDAR