BEGIN:VCALENDAR
VERSION:2.0
PRODID:-//Paws and Prayers - ECPv6.15.20//NONSGML v1.0//EN
CALSCALE:GREGORIAN
METHOD:PUBLISH
X-ORIGINAL-URL:https://pawsandprayers.org
X-WR-CALDESC:Events for Paws and Prayers
REFRESH-INTERVAL;VALUE=DURATION:PT1H
X-Robots-Tag:noindex
X-PUBLISHED-TTL:PT1H
BEGIN:VTIMEZONE
TZID:America/New_York
BEGIN:DAYLIGHT
TZOFFSETFROM:-0500
TZOFFSETTO:-0400
TZNAME:EDT
DTSTART:20250309T070000
END:DAYLIGHT
BEGIN:STANDARD
TZOFFSETFROM:-0400
TZOFFSETTO:-0500
TZNAME:EST
DTSTART:20251102T060000
END:STANDARD
BEGIN:DAYLIGHT
TZOFFSETFROM:-0500
TZOFFSETTO:-0400
TZNAME:EDT
DTSTART:20260308T070000
END:DAYLIGHT
BEGIN:STANDARD
TZOFFSETFROM:-0400
TZOFFSETTO:-0500
TZNAME:EST
DTSTART:20261101T060000
END:STANDARD
BEGIN:DAYLIGHT
TZOFFSETFROM:-0500
TZOFFSETTO:-0400
TZNAME:EDT
DTSTART:20270314T070000
END:DAYLIGHT
BEGIN:STANDARD
TZOFFSETFROM:-0400
TZOFFSETTO:-0500
TZNAME:EST
DTSTART:20271107T060000
END:STANDARD
END:VTIMEZONE
BEGIN:VEVENT
DTSTART;TZID=America/New_York:20261107T110000
DTEND;TZID=America/New_York:20261107T130000
DTSTAMP:20260422T130943
CREATED:20260112T175639Z
LAST-MODIFIED:20260112T175639Z
UID:70874-1794049200-1794056400@pawsandprayers.org
SUMMARY:Adoption Event @ Canton Hollywood Feed
DESCRIPTION:We’ll be at Canton Hollywood Feed from 11 am to 1 pm.\nSpotted a special furball you’re eager to meet? Reach out to their foster (check their bio for deets) to ensure they’re there\, ready to wag their tail just for you.\nJust a heads-up: Paws and Prayers doesn’t do instant adoptions.\nRemember\, securing a new best friend requires an approved application!
URL:https://pawsandprayers.org/event/adoption-event-canton-hollywood-feed-5/
LOCATION:Canton Hollywood Feed\, 4631 Everhard Rd NW\, Canton\, OH\, 44718\, United States
CATEGORIES:Adoption Event
ATTACH;FMTTYPE=image/png:https://pawsandprayers.org/wp-content/uploads/2018/03/HWF_PnPs_Web.png
END:VEVENT
BEGIN:VEVENT
DTSTART;TZID=America/New_York:20261114T100000
DTEND;TZID=America/New_York:20261114T120000
DTSTAMP:20260422T130943
CREATED:20251103T070322Z
LAST-MODIFIED:20251103T070322Z
UID:70248-1794650400-1794657600@pawsandprayers.org
SUMMARY:Adoption Event @ Chapel Hill Tractor Supply
DESCRIPTION:Swing by Chapel Hill Tractor Supply between 10 am and noon to meet some adorable adoptable critters!\nGot your heart set on a furry friend? Make sure to contact the foster listed in their bio to confirm they’ll be there for cuddles.\nRemember\, Paws and Prayers doesn’t do instant adoptions\, you’ll need an approved application to make a new best friend!
URL:https://pawsandprayers.org/event/adoption-event-chapel-hill-tractor-supply-26/
LOCATION:Chapel Hill Tractor Supply\, 2003 Buchholzer Blvd.\, Akron\, OH\, 44310\, United States
CATEGORIES:Adoption Event
ATTACH;FMTTYPE=image/png:https://pawsandprayers.org/wp-content/uploads/2024/09/Feature-Pix-PnPsTSC.png
END:VEVENT
BEGIN:VEVENT
DTSTART;TZID=America/New_York:20261121T110000
DTEND;TZID=America/New_York:20261121T130000
DTSTAMP:20260422T130943
CREATED:20251103T075208Z
LAST-MODIFIED:20251103T075250Z
UID:70272-1795258800-1795266000@pawsandprayers.org
SUMMARY:Adoption Event @ Montrose PetSmart
DESCRIPTION:We invite you to visit our adoptable pets at Montrose PetSmart from 11 a.m. to 1 p.m.\nIf you have a specific animal in mind\, please contact their foster caregiver (contact details are included in their bio) to confirm their attendance.\nPlease note that Paws and Prayers does not facilitate on-the-spot adoptions; all adoptions require an approved application. We look forward to seeing you there!
URL:https://pawsandprayers.org/event/adoption-event-montrose-petsmart-51/
LOCATION:Montrose PetSmart\, 3750 W Market St\, Fairlawn\, OH\, 44333\, United States
CATEGORIES:Adoption Event
ATTACH;FMTTYPE=image/png:https://pawsandprayers.org/wp-content/uploads/2024/10/web-feature-image-PnPsPS-small-3.png
END:VEVENT
BEGIN:VEVENT
DTSTART;TZID=America/New_York:20261128T120000
DTEND;TZID=America/New_York:20261128T140000
DTSTAMP:20260422T130943
CREATED:20251103T083744Z
LAST-MODIFIED:20251103T083744Z
UID:70305-1795867200-1795874400@pawsandprayers.org
SUMMARY:Adoption Event @ Medina PetSmart
DESCRIPTION:Catch us at Medina PetSmart between 12:00 pm and 2:00 pm\, rubbing elbows with some adorable\, adoptable critters!\nCurious about which furry friends will steal the spotlight? Drop Sheri a line at sswank1@gmail.com.\nJust a heads up—Paws and Prayers doesn’t do spontaneous adoptions.\nYou’ll need an approved application and an appointment  to whisk your new furball home!
URL:https://pawsandprayers.org/event/adoption-event-medina-petsmart-21/
LOCATION:Medina PetSmart\, 5011 Grande Blvd\, Medina\, OH\, 44256\, United States
CATEGORIES:Adoption Event
ATTACH;FMTTYPE=image/png:https://pawsandprayers.org/wp-content/uploads/2024/10/web-feature-image-PnPsPS-small-3.png
END:VEVENT
END:VCALENDAR