BEGIN:VCALENDAR
VERSION:2.0
PRODID:-//Paws and Prayers - ECPv6.15.20//NONSGML v1.0//EN
CALSCALE:GREGORIAN
METHOD:PUBLISH
X-WR-CALNAME:Paws and Prayers
X-ORIGINAL-URL:https://pawsandprayers.org
X-WR-CALDESC:Events for Paws and Prayers
REFRESH-INTERVAL;VALUE=DURATION:PT1H
X-Robots-Tag:noindex
X-PUBLISHED-TTL:PT1H
BEGIN:VTIMEZONE
TZID:America/New_York
BEGIN:DAYLIGHT
TZOFFSETFROM:-0500
TZOFFSETTO:-0400
TZNAME:EDT
DTSTART:20250309T070000
END:DAYLIGHT
BEGIN:STANDARD
TZOFFSETFROM:-0400
TZOFFSETTO:-0500
TZNAME:EST
DTSTART:20251102T060000
END:STANDARD
BEGIN:DAYLIGHT
TZOFFSETFROM:-0500
TZOFFSETTO:-0400
TZNAME:EDT
DTSTART:20260308T070000
END:DAYLIGHT
BEGIN:STANDARD
TZOFFSETFROM:-0400
TZOFFSETTO:-0500
TZNAME:EST
DTSTART:20261101T060000
END:STANDARD
BEGIN:DAYLIGHT
TZOFFSETFROM:-0500
TZOFFSETTO:-0400
TZNAME:EDT
DTSTART:20270314T070000
END:DAYLIGHT
BEGIN:STANDARD
TZOFFSETFROM:-0400
TZOFFSETTO:-0500
TZNAME:EST
DTSTART:20271107T060000
END:STANDARD
END:VTIMEZONE
BEGIN:VEVENT
DTSTART;TZID=America/New_York:20261212T100000
DTEND;TZID=America/New_York:20261212T120000
DTSTAMP:20260422T142822
CREATED:20251103T070542Z
LAST-MODIFIED:20251103T071104Z
UID:70250-1797069600-1797076800@pawsandprayers.org
SUMMARY:Adoption Event @ Chapel Hill Tractor Supply
DESCRIPTION:Swing by Chapel Hill Tractor Supply between 10 am and noon to meet some cuddly\, adoptable furballs!\nGot your eye on a specific cutie? Check their bio and email their foster to make sure they’re making an appearance.\nA heads-up: Paws and Prayers doesn’t do snap adoptions\, you’ll need an approved application to bring a new buddy home!
URL:https://pawsandprayers.org/event/adoption-event-chapel-hill-tractor-supply-27/
LOCATION:Chapel Hill Tractor Supply\, 2003 Buchholzer Blvd.\, Akron\, OH\, 44310\, United States
CATEGORIES:Adoption Event
ATTACH;FMTTYPE=image/png:https://pawsandprayers.org/wp-content/uploads/2024/09/Feature-Pix-PnPsTSC.png
END:VEVENT
BEGIN:VEVENT
DTSTART;TZID=America/New_York:20261219T110000
DTEND;TZID=America/New_York:20261219T130000
DTSTAMP:20260422T142822
CREATED:20251103T075455Z
LAST-MODIFIED:20251103T080423Z
UID:70274-1797678000-1797685200@pawsandprayers.org
SUMMARY:Adoption Event @ Montrose PetSmart
DESCRIPTION:Stop by and meet our adorable\, adoptable critters!\nWe’ll be hanging out at Montrose PetSmart from 11 am to 1 pm.\nSpotted a furry friend you’re keen to meet? Drop a line to their foster (details in their bio) to ensure they’ll be there\, ready to wag their tail just for you.\nRemember\, Paws and Prayers doesn’t do on-the-spot adoptions. Make sure to get that adoption application approved first!
URL:https://pawsandprayers.org/event/70274/
LOCATION:Montrose PetSmart\, 3750 W Market St\, Fairlawn\, OH\, 44333\, United States
CATEGORIES:Adoption Event
ATTACH;FMTTYPE=image/png:https://pawsandprayers.org/wp-content/uploads/2024/10/web-feature-image-PnPsPS-small-3.png
END:VEVENT
BEGIN:VEVENT
DTSTART;TZID=America/New_York:20261226T120000
DTEND;TZID=America/New_York:20261226T140000
DTSTAMP:20260422T142822
CREATED:20251103T083949Z
LAST-MODIFIED:20251103T083949Z
UID:70307-1798286400-1798293600@pawsandprayers.org
SUMMARY:Adoption Event @ Medina PetSmart
DESCRIPTION:Join us at Medina PetSmart from 12:00 pm to 2:00 pm for a furry meet-and-greet!\nEmail Sheri at sswank1@gmail.com to discover which adorable critters will be wagging their tails.\nJust a heads-up: Paws and Prayers doesn’t do impulsive paw-doptions.\nYou’ll need an approved application and an appointment to scoop up your furever friend!
URL:https://pawsandprayers.org/event/adoption-event-medina-petsmart-22/
LOCATION:Medina PetSmart\, 5011 Grande Blvd\, Medina\, OH\, 44256\, United States
CATEGORIES:Adoption Event
ATTACH;FMTTYPE=image/png:https://pawsandprayers.org/wp-content/uploads/2024/10/web-feature-image-PnPsPS-small-3.png
END:VEVENT
END:VCALENDAR